BEGIN:VCALENDAR
VERSION:2.0
PRODID:-//Indianapolis Zoo - ECPv6.15.20//NONSGML v1.0//EN
CALSCALE:GREGORIAN
METHOD:PUBLISH
X-WR-CALNAME:Indianapolis Zoo
X-ORIGINAL-URL:https://www.indianapoliszoo.com
X-WR-CALDESC:Events for Indianapolis Zoo
REFRESH-INTERVAL;VALUE=DURATION:PT1H
X-Robots-Tag:noindex
X-PUBLISHED-TTL:PT1H
BEGIN:VTIMEZONE
TZID:America/Indiana/Indianapolis
BEGIN:DAYLIGHT
TZOFFSETFROM:-0500
TZOFFSETTO:-0400
TZNAME:EDT
DTSTART:20230312T070000
END:DAYLIGHT
BEGIN:STANDARD
TZOFFSETFROM:-0400
TZOFFSETTO:-0500
TZNAME:EST
DTSTART:20231105T060000
END:STANDARD
BEGIN:DAYLIGHT
TZOFFSETFROM:-0500
TZOFFSETTO:-0400
TZNAME:EDT
DTSTART:20240310T070000
END:DAYLIGHT
BEGIN:STANDARD
TZOFFSETFROM:-0400
TZOFFSETTO:-0500
TZNAME:EST
DTSTART:20241103T060000
END:STANDARD
BEGIN:DAYLIGHT
TZOFFSETFROM:-0500
TZOFFSETTO:-0400
TZNAME:EDT
DTSTART:20250309T070000
END:DAYLIGHT
BEGIN:STANDARD
TZOFFSETFROM:-0400
TZOFFSETTO:-0500
TZNAME:EST
DTSTART:20251102T060000
END:STANDARD
END:VTIMEZONE
BEGIN:VEVENT
DTSTART;TZID=America/Indiana/Indianapolis:20240831T110000
DTEND;TZID=America/Indiana/Indianapolis:20240831T113000
DTSTAMP:20260419T094212
CREATED:20240729T135555Z
LAST-MODIFIED:20241115T141842Z
UID:10025842-1725102000-1725103800@www.indianapoliszoo.com
SUMMARY:Feed a Giraffe
DESCRIPTION:The main platform at the Giraffe Exhibit in Plains not only offers the best views of our reticulated giraffe herd but also you’ll have the opportunity to hand-feed one of these gorgeous creatures! The first time you see these gentle giants up close will be a moment you’ll never forget!
URL:https://www.indianapoliszoo.com/event/feed-a-giraffe-6/2024-08-31/
LOCATION:Plains
CATEGORIES:Daily
END:VEVENT
BEGIN:VEVENT
DTSTART;TZID=America/Indiana/Indianapolis:20240830T150000
DTEND;TZID=America/Indiana/Indianapolis:20240830T153000
DTSTAMP:20260419T094212
CREATED:20240729T135812Z
LAST-MODIFIED:20241115T141821Z
UID:10026629-1725030000-1725031800@www.indianapoliszoo.com
SUMMARY:Feed a Giraffe
DESCRIPTION:The main platform at the Giraffe Exhibit in Plains not only offers the best views of our reticulated giraffe herd but also you’ll have the opportunity to hand-feed one of these gorgeous creatures! The first time you see these gentle giants up close will be a moment you’ll never forget!
URL:https://www.indianapoliszoo.com/event/feed-a-giraffe-8/2024-08-30/
LOCATION:Plains
CATEGORIES:Daily
END:VEVENT
BEGIN:VEVENT
DTSTART;TZID=America/Indiana/Indianapolis:20240830T130000
DTEND;TZID=America/Indiana/Indianapolis:20240830T133000
DTSTAMP:20260419T094212
CREATED:20240729T135728Z
LAST-MODIFIED:20241115T141824Z
UID:10026235-1725022800-1725024600@www.indianapoliszoo.com
SUMMARY:Feed a Giraffe
DESCRIPTION:The main platform at the Giraffe Exhibit in Plains not only offers the best views of our reticulated giraffe herd but also you’ll have the opportunity to hand-feed one of these gorgeous creatures! The first time you see these gentle giants up close will be a moment you’ll never forget!
URL:https://www.indianapoliszoo.com/event/feed-a-giraffe-7/2024-08-30/
LOCATION:Plains
CATEGORIES:Daily
END:VEVENT
BEGIN:VEVENT
DTSTART;TZID=America/Indiana/Indianapolis:20240830T110000
DTEND;TZID=America/Indiana/Indianapolis:20240830T113000
DTSTAMP:20260419T094212
CREATED:20240729T135555Z
LAST-MODIFIED:20241115T141842Z
UID:10025841-1725015600-1725017400@www.indianapoliszoo.com
SUMMARY:Feed a Giraffe
DESCRIPTION:The main platform at the Giraffe Exhibit in Plains not only offers the best views of our reticulated giraffe herd but also you’ll have the opportunity to hand-feed one of these gorgeous creatures! The first time you see these gentle giants up close will be a moment you’ll never forget!
URL:https://www.indianapoliszoo.com/event/feed-a-giraffe-6/2024-08-30/
LOCATION:Plains
CATEGORIES:Daily
END:VEVENT
BEGIN:VEVENT
DTSTART;TZID=America/Indiana/Indianapolis:20240829T150000
DTEND;TZID=America/Indiana/Indianapolis:20240829T153000
DTSTAMP:20260419T094212
CREATED:20240729T135812Z
LAST-MODIFIED:20241115T141821Z
UID:10026628-1724943600-1724945400@www.indianapoliszoo.com
SUMMARY:Feed a Giraffe
DESCRIPTION:The main platform at the Giraffe Exhibit in Plains not only offers the best views of our reticulated giraffe herd but also you’ll have the opportunity to hand-feed one of these gorgeous creatures! The first time you see these gentle giants up close will be a moment you’ll never forget!
URL:https://www.indianapoliszoo.com/event/feed-a-giraffe-8/2024-08-29/
LOCATION:Plains
CATEGORIES:Daily
END:VEVENT
BEGIN:VEVENT
DTSTART;TZID=America/Indiana/Indianapolis:20240829T130000
DTEND;TZID=America/Indiana/Indianapolis:20240829T133000
DTSTAMP:20260419T094212
CREATED:20240729T135728Z
LAST-MODIFIED:20241115T141824Z
UID:10026234-1724936400-1724938200@www.indianapoliszoo.com
SUMMARY:Feed a Giraffe
DESCRIPTION:The main platform at the Giraffe Exhibit in Plains not only offers the best views of our reticulated giraffe herd but also you’ll have the opportunity to hand-feed one of these gorgeous creatures! The first time you see these gentle giants up close will be a moment you’ll never forget!
URL:https://www.indianapoliszoo.com/event/feed-a-giraffe-7/2024-08-29/
LOCATION:Plains
CATEGORIES:Daily
END:VEVENT
BEGIN:VEVENT
DTSTART;TZID=America/Indiana/Indianapolis:20240829T110000
DTEND;TZID=America/Indiana/Indianapolis:20240829T113000
DTSTAMP:20260419T094212
CREATED:20240729T135555Z
LAST-MODIFIED:20241115T141842Z
UID:10025840-1724929200-1724931000@www.indianapoliszoo.com
SUMMARY:Feed a Giraffe
DESCRIPTION:The main platform at the Giraffe Exhibit in Plains not only offers the best views of our reticulated giraffe herd but also you’ll have the opportunity to hand-feed one of these gorgeous creatures! The first time you see these gentle giants up close will be a moment you’ll never forget!
URL:https://www.indianapoliszoo.com/event/feed-a-giraffe-6/2024-08-29/
LOCATION:Plains
CATEGORIES:Daily
END:VEVENT
BEGIN:VEVENT
DTSTART;TZID=America/Indiana/Indianapolis:20240828T150000
DTEND;TZID=America/Indiana/Indianapolis:20240828T153000
DTSTAMP:20260419T094212
CREATED:20240729T135812Z
LAST-MODIFIED:20241115T141821Z
UID:10026627-1724857200-1724859000@www.indianapoliszoo.com
SUMMARY:Feed a Giraffe
DESCRIPTION:The main platform at the Giraffe Exhibit in Plains not only offers the best views of our reticulated giraffe herd but also you’ll have the opportunity to hand-feed one of these gorgeous creatures! The first time you see these gentle giants up close will be a moment you’ll never forget!
URL:https://www.indianapoliszoo.com/event/feed-a-giraffe-8/2024-08-28/
LOCATION:Plains
CATEGORIES:Daily
END:VEVENT
BEGIN:VEVENT
DTSTART;TZID=America/Indiana/Indianapolis:20240828T130000
DTEND;TZID=America/Indiana/Indianapolis:20240828T133000
DTSTAMP:20260419T094212
CREATED:20240729T135728Z
LAST-MODIFIED:20241115T141824Z
UID:10026233-1724850000-1724851800@www.indianapoliszoo.com
SUMMARY:Feed a Giraffe
DESCRIPTION:The main platform at the Giraffe Exhibit in Plains not only offers the best views of our reticulated giraffe herd but also you’ll have the opportunity to hand-feed one of these gorgeous creatures! The first time you see these gentle giants up close will be a moment you’ll never forget!
URL:https://www.indianapoliszoo.com/event/feed-a-giraffe-7/2024-08-28/
LOCATION:Plains
CATEGORIES:Daily
END:VEVENT
BEGIN:VEVENT
DTSTART;TZID=America/Indiana/Indianapolis:20240828T110000
DTEND;TZID=America/Indiana/Indianapolis:20240828T113000
DTSTAMP:20260419T094212
CREATED:20240729T135555Z
LAST-MODIFIED:20241115T141842Z
UID:10025839-1724842800-1724844600@www.indianapoliszoo.com
SUMMARY:Feed a Giraffe
DESCRIPTION:The main platform at the Giraffe Exhibit in Plains not only offers the best views of our reticulated giraffe herd but also you’ll have the opportunity to hand-feed one of these gorgeous creatures! The first time you see these gentle giants up close will be a moment you’ll never forget!
URL:https://www.indianapoliszoo.com/event/feed-a-giraffe-6/2024-08-28/
LOCATION:Plains
CATEGORIES:Daily
END:VEVENT
BEGIN:VEVENT
DTSTART;TZID=America/Indiana/Indianapolis:20240827T150000
DTEND;TZID=America/Indiana/Indianapolis:20240827T153000
DTSTAMP:20260419T094212
CREATED:20240729T135812Z
LAST-MODIFIED:20241115T141821Z
UID:10026626-1724770800-1724772600@www.indianapoliszoo.com
SUMMARY:Feed a Giraffe
DESCRIPTION:The main platform at the Giraffe Exhibit in Plains not only offers the best views of our reticulated giraffe herd but also you’ll have the opportunity to hand-feed one of these gorgeous creatures! The first time you see these gentle giants up close will be a moment you’ll never forget!
URL:https://www.indianapoliszoo.com/event/feed-a-giraffe-8/2024-08-27/
LOCATION:Plains
CATEGORIES:Daily
END:VEVENT
BEGIN:VEVENT
DTSTART;TZID=America/Indiana/Indianapolis:20240827T130000
DTEND;TZID=America/Indiana/Indianapolis:20240827T133000
DTSTAMP:20260419T094212
CREATED:20240729T135728Z
LAST-MODIFIED:20241115T141824Z
UID:10026232-1724763600-1724765400@www.indianapoliszoo.com
SUMMARY:Feed a Giraffe
DESCRIPTION:The main platform at the Giraffe Exhibit in Plains not only offers the best views of our reticulated giraffe herd but also you’ll have the opportunity to hand-feed one of these gorgeous creatures! The first time you see these gentle giants up close will be a moment you’ll never forget!
URL:https://www.indianapoliszoo.com/event/feed-a-giraffe-7/2024-08-27/
LOCATION:Plains
CATEGORIES:Daily
END:VEVENT
BEGIN:VEVENT
DTSTART;TZID=America/Indiana/Indianapolis:20240827T110000
DTEND;TZID=America/Indiana/Indianapolis:20240827T113000
DTSTAMP:20260419T094212
CREATED:20240729T135555Z
LAST-MODIFIED:20241115T141842Z
UID:10025838-1724756400-1724758200@www.indianapoliszoo.com
SUMMARY:Feed a Giraffe
DESCRIPTION:The main platform at the Giraffe Exhibit in Plains not only offers the best views of our reticulated giraffe herd but also you’ll have the opportunity to hand-feed one of these gorgeous creatures! The first time you see these gentle giants up close will be a moment you’ll never forget!
URL:https://www.indianapoliszoo.com/event/feed-a-giraffe-6/2024-08-27/
LOCATION:Plains
CATEGORIES:Daily
END:VEVENT
BEGIN:VEVENT
DTSTART;TZID=America/Indiana/Indianapolis:20240826T150000
DTEND;TZID=America/Indiana/Indianapolis:20240826T153000
DTSTAMP:20260419T094212
CREATED:20240729T135812Z
LAST-MODIFIED:20241115T141821Z
UID:10026625-1724684400-1724686200@www.indianapoliszoo.com
SUMMARY:Feed a Giraffe
DESCRIPTION:The main platform at the Giraffe Exhibit in Plains not only offers the best views of our reticulated giraffe herd but also you’ll have the opportunity to hand-feed one of these gorgeous creatures! The first time you see these gentle giants up close will be a moment you’ll never forget!
URL:https://www.indianapoliszoo.com/event/feed-a-giraffe-8/2024-08-26/
LOCATION:Plains
CATEGORIES:Daily
END:VEVENT
BEGIN:VEVENT
DTSTART;TZID=America/Indiana/Indianapolis:20240826T130000
DTEND;TZID=America/Indiana/Indianapolis:20240826T133000
DTSTAMP:20260419T094212
CREATED:20240729T135728Z
LAST-MODIFIED:20241115T141824Z
UID:10026231-1724677200-1724679000@www.indianapoliszoo.com
SUMMARY:Feed a Giraffe
DESCRIPTION:The main platform at the Giraffe Exhibit in Plains not only offers the best views of our reticulated giraffe herd but also you’ll have the opportunity to hand-feed one of these gorgeous creatures! The first time you see these gentle giants up close will be a moment you’ll never forget!
URL:https://www.indianapoliszoo.com/event/feed-a-giraffe-7/2024-08-26/
LOCATION:Plains
CATEGORIES:Daily
END:VEVENT
BEGIN:VEVENT
DTSTART;TZID=America/Indiana/Indianapolis:20240826T110000
DTEND;TZID=America/Indiana/Indianapolis:20240826T113000
DTSTAMP:20260419T094212
CREATED:20240729T135555Z
LAST-MODIFIED:20241115T141842Z
UID:10025837-1724670000-1724671800@www.indianapoliszoo.com
SUMMARY:Feed a Giraffe
DESCRIPTION:The main platform at the Giraffe Exhibit in Plains not only offers the best views of our reticulated giraffe herd but also you’ll have the opportunity to hand-feed one of these gorgeous creatures! The first time you see these gentle giants up close will be a moment you’ll never forget!
URL:https://www.indianapoliszoo.com/event/feed-a-giraffe-6/2024-08-26/
LOCATION:Plains
CATEGORIES:Daily
END:VEVENT
BEGIN:VEVENT
DTSTART;TZID=America/Indiana/Indianapolis:20240825T150000
DTEND;TZID=America/Indiana/Indianapolis:20240825T153000
DTSTAMP:20260419T094212
CREATED:20240729T135812Z
LAST-MODIFIED:20241115T141821Z
UID:10026624-1724598000-1724599800@www.indianapoliszoo.com
SUMMARY:Feed a Giraffe
DESCRIPTION:The main platform at the Giraffe Exhibit in Plains not only offers the best views of our reticulated giraffe herd but also you’ll have the opportunity to hand-feed one of these gorgeous creatures! The first time you see these gentle giants up close will be a moment you’ll never forget!
URL:https://www.indianapoliszoo.com/event/feed-a-giraffe-8/2024-08-25/
LOCATION:Plains
CATEGORIES:Daily
END:VEVENT
BEGIN:VEVENT
DTSTART;TZID=America/Indiana/Indianapolis:20240825T130000
DTEND;TZID=America/Indiana/Indianapolis:20240825T133000
DTSTAMP:20260419T094212
CREATED:20240729T135728Z
LAST-MODIFIED:20241115T141824Z
UID:10026230-1724590800-1724592600@www.indianapoliszoo.com
SUMMARY:Feed a Giraffe
DESCRIPTION:The main platform at the Giraffe Exhibit in Plains not only offers the best views of our reticulated giraffe herd but also you’ll have the opportunity to hand-feed one of these gorgeous creatures! The first time you see these gentle giants up close will be a moment you’ll never forget!
URL:https://www.indianapoliszoo.com/event/feed-a-giraffe-7/2024-08-25/
LOCATION:Plains
CATEGORIES:Daily
END:VEVENT
BEGIN:VEVENT
DTSTART;TZID=America/Indiana/Indianapolis:20240825T110000
DTEND;TZID=America/Indiana/Indianapolis:20240825T113000
DTSTAMP:20260419T094212
CREATED:20240729T135555Z
LAST-MODIFIED:20241115T141842Z
UID:10025836-1724583600-1724585400@www.indianapoliszoo.com
SUMMARY:Feed a Giraffe
DESCRIPTION:The main platform at the Giraffe Exhibit in Plains not only offers the best views of our reticulated giraffe herd but also you’ll have the opportunity to hand-feed one of these gorgeous creatures! The first time you see these gentle giants up close will be a moment you’ll never forget!
URL:https://www.indianapoliszoo.com/event/feed-a-giraffe-6/2024-08-25/
LOCATION:Plains
CATEGORIES:Daily
END:VEVENT
BEGIN:VEVENT
DTSTART;TZID=America/Indiana/Indianapolis:20240824T150000
DTEND;TZID=America/Indiana/Indianapolis:20240824T153000
DTSTAMP:20260419T094212
CREATED:20240729T135812Z
LAST-MODIFIED:20241115T141821Z
UID:10026623-1724511600-1724513400@www.indianapoliszoo.com
SUMMARY:Feed a Giraffe
DESCRIPTION:The main platform at the Giraffe Exhibit in Plains not only offers the best views of our reticulated giraffe herd but also you’ll have the opportunity to hand-feed one of these gorgeous creatures! The first time you see these gentle giants up close will be a moment you’ll never forget!
URL:https://www.indianapoliszoo.com/event/feed-a-giraffe-8/2024-08-24/
LOCATION:Plains
CATEGORIES:Daily
END:VEVENT
BEGIN:VEVENT
DTSTART;TZID=America/Indiana/Indianapolis:20240824T130000
DTEND;TZID=America/Indiana/Indianapolis:20240824T133000
DTSTAMP:20260419T094212
CREATED:20240729T135728Z
LAST-MODIFIED:20241115T141824Z
UID:10026229-1724504400-1724506200@www.indianapoliszoo.com
SUMMARY:Feed a Giraffe
DESCRIPTION:The main platform at the Giraffe Exhibit in Plains not only offers the best views of our reticulated giraffe herd but also you’ll have the opportunity to hand-feed one of these gorgeous creatures! The first time you see these gentle giants up close will be a moment you’ll never forget!
URL:https://www.indianapoliszoo.com/event/feed-a-giraffe-7/2024-08-24/
LOCATION:Plains
CATEGORIES:Daily
END:VEVENT
BEGIN:VEVENT
DTSTART;TZID=America/Indiana/Indianapolis:20240824T110000
DTEND;TZID=America/Indiana/Indianapolis:20240824T113000
DTSTAMP:20260419T094212
CREATED:20240729T135555Z
LAST-MODIFIED:20241115T141842Z
UID:10025835-1724497200-1724499000@www.indianapoliszoo.com
SUMMARY:Feed a Giraffe
DESCRIPTION:The main platform at the Giraffe Exhibit in Plains not only offers the best views of our reticulated giraffe herd but also you’ll have the opportunity to hand-feed one of these gorgeous creatures! The first time you see these gentle giants up close will be a moment you’ll never forget!
URL:https://www.indianapoliszoo.com/event/feed-a-giraffe-6/2024-08-24/
LOCATION:Plains
CATEGORIES:Daily
END:VEVENT
BEGIN:VEVENT
DTSTART;TZID=America/Indiana/Indianapolis:20240823T150000
DTEND;TZID=America/Indiana/Indianapolis:20240823T153000
DTSTAMP:20260419T094212
CREATED:20240729T135812Z
LAST-MODIFIED:20241115T141821Z
UID:10026622-1724425200-1724427000@www.indianapoliszoo.com
SUMMARY:Feed a Giraffe
DESCRIPTION:The main platform at the Giraffe Exhibit in Plains not only offers the best views of our reticulated giraffe herd but also you’ll have the opportunity to hand-feed one of these gorgeous creatures! The first time you see these gentle giants up close will be a moment you’ll never forget!
URL:https://www.indianapoliszoo.com/event/feed-a-giraffe-8/2024-08-23/
LOCATION:Plains
CATEGORIES:Daily
END:VEVENT
BEGIN:VEVENT
DTSTART;TZID=America/Indiana/Indianapolis:20240823T130000
DTEND;TZID=America/Indiana/Indianapolis:20240823T133000
DTSTAMP:20260419T094212
CREATED:20240729T135728Z
LAST-MODIFIED:20241115T141824Z
UID:10026228-1724418000-1724419800@www.indianapoliszoo.com
SUMMARY:Feed a Giraffe
DESCRIPTION:The main platform at the Giraffe Exhibit in Plains not only offers the best views of our reticulated giraffe herd but also you’ll have the opportunity to hand-feed one of these gorgeous creatures! The first time you see these gentle giants up close will be a moment you’ll never forget!
URL:https://www.indianapoliszoo.com/event/feed-a-giraffe-7/2024-08-23/
LOCATION:Plains
CATEGORIES:Daily
END:VEVENT
BEGIN:VEVENT
DTSTART;TZID=America/Indiana/Indianapolis:20240823T110000
DTEND;TZID=America/Indiana/Indianapolis:20240823T113000
DTSTAMP:20260419T094212
CREATED:20240729T135555Z
LAST-MODIFIED:20241115T141842Z
UID:10025834-1724410800-1724412600@www.indianapoliszoo.com
SUMMARY:Feed a Giraffe
DESCRIPTION:The main platform at the Giraffe Exhibit in Plains not only offers the best views of our reticulated giraffe herd but also you’ll have the opportunity to hand-feed one of these gorgeous creatures! The first time you see these gentle giants up close will be a moment you’ll never forget!
URL:https://www.indianapoliszoo.com/event/feed-a-giraffe-6/2024-08-23/
LOCATION:Plains
CATEGORIES:Daily
END:VEVENT
BEGIN:VEVENT
DTSTART;TZID=America/Indiana/Indianapolis:20240822T150000
DTEND;TZID=America/Indiana/Indianapolis:20240822T153000
DTSTAMP:20260419T094212
CREATED:20240729T135812Z
LAST-MODIFIED:20241115T141821Z
UID:10026621-1724338800-1724340600@www.indianapoliszoo.com
SUMMARY:Feed a Giraffe
DESCRIPTION:The main platform at the Giraffe Exhibit in Plains not only offers the best views of our reticulated giraffe herd but also you’ll have the opportunity to hand-feed one of these gorgeous creatures! The first time you see these gentle giants up close will be a moment you’ll never forget!
URL:https://www.indianapoliszoo.com/event/feed-a-giraffe-8/2024-08-22/
LOCATION:Plains
CATEGORIES:Daily
END:VEVENT
BEGIN:VEVENT
DTSTART;TZID=America/Indiana/Indianapolis:20240822T130000
DTEND;TZID=America/Indiana/Indianapolis:20240822T133000
DTSTAMP:20260419T094212
CREATED:20240729T135728Z
LAST-MODIFIED:20241115T141824Z
UID:10026227-1724331600-1724333400@www.indianapoliszoo.com
SUMMARY:Feed a Giraffe
DESCRIPTION:The main platform at the Giraffe Exhibit in Plains not only offers the best views of our reticulated giraffe herd but also you’ll have the opportunity to hand-feed one of these gorgeous creatures! The first time you see these gentle giants up close will be a moment you’ll never forget!
URL:https://www.indianapoliszoo.com/event/feed-a-giraffe-7/2024-08-22/
LOCATION:Plains
CATEGORIES:Daily
END:VEVENT
BEGIN:VEVENT
DTSTART;TZID=America/Indiana/Indianapolis:20240822T110000
DTEND;TZID=America/Indiana/Indianapolis:20240822T113000
DTSTAMP:20260419T094212
CREATED:20240729T135555Z
LAST-MODIFIED:20241115T141842Z
UID:10025833-1724324400-1724326200@www.indianapoliszoo.com
SUMMARY:Feed a Giraffe
DESCRIPTION:The main platform at the Giraffe Exhibit in Plains not only offers the best views of our reticulated giraffe herd but also you’ll have the opportunity to hand-feed one of these gorgeous creatures! The first time you see these gentle giants up close will be a moment you’ll never forget!
URL:https://www.indianapoliszoo.com/event/feed-a-giraffe-6/2024-08-22/
LOCATION:Plains
CATEGORIES:Daily
END:VEVENT
BEGIN:VEVENT
DTSTART;TZID=America/Indiana/Indianapolis:20240821T150000
DTEND;TZID=America/Indiana/Indianapolis:20240821T153000
DTSTAMP:20260419T094212
CREATED:20240729T135812Z
LAST-MODIFIED:20241115T141821Z
UID:10026620-1724252400-1724254200@www.indianapoliszoo.com
SUMMARY:Feed a Giraffe
DESCRIPTION:The main platform at the Giraffe Exhibit in Plains not only offers the best views of our reticulated giraffe herd but also you’ll have the opportunity to hand-feed one of these gorgeous creatures! The first time you see these gentle giants up close will be a moment you’ll never forget!
URL:https://www.indianapoliszoo.com/event/feed-a-giraffe-8/2024-08-21/
LOCATION:Plains
CATEGORIES:Daily
END:VEVENT
BEGIN:VEVENT
DTSTART;TZID=America/Indiana/Indianapolis:20240821T130000
DTEND;TZID=America/Indiana/Indianapolis:20240821T133000
DTSTAMP:20260419T094212
CREATED:20240729T135728Z
LAST-MODIFIED:20241115T141824Z
UID:10026226-1724245200-1724247000@www.indianapoliszoo.com
SUMMARY:Feed a Giraffe
DESCRIPTION:The main platform at the Giraffe Exhibit in Plains not only offers the best views of our reticulated giraffe herd but also you’ll have the opportunity to hand-feed one of these gorgeous creatures! The first time you see these gentle giants up close will be a moment you’ll never forget!
URL:https://www.indianapoliszoo.com/event/feed-a-giraffe-7/2024-08-21/
LOCATION:Plains
CATEGORIES:Daily
END:VEVENT
END:VCALENDAR